BEGIN:VCALENDAR
VERSION:2.0
PRODID:-//William Price Books - ECPv6.15.18//NONSGML v1.0//EN
CALSCALE:GREGORIAN
METHOD:PUBLISH
X-WR-CALNAME:William Price Books
X-ORIGINAL-URL:https://robbieprice.com
X-WR-CALDESC:Events for William Price Books
REFRESH-INTERVAL;VALUE=DURATION:PT1H
X-Robots-Tag:noindex
X-PUBLISHED-TTL:PT1H
BEGIN:VTIMEZONE
TZID:America/New_York
BEGIN:DAYLIGHT
TZOFFSETFROM:-0500
TZOFFSETTO:-0400
TZNAME:EDT
DTSTART:20250309T070000
END:DAYLIGHT
BEGIN:STANDARD
TZOFFSETFROM:-0400
TZOFFSETTO:-0500
TZNAME:EST
DTSTART:20251102T060000
END:STANDARD
BEGIN:DAYLIGHT
TZOFFSETFROM:-0500
TZOFFSETTO:-0400
TZNAME:EDT
DTSTART:20260308T070000
END:DAYLIGHT
BEGIN:STANDARD
TZOFFSETFROM:-0400
TZOFFSETTO:-0500
TZNAME:EST
DTSTART:20261101T060000
END:STANDARD
BEGIN:DAYLIGHT
TZOFFSETFROM:-0500
TZOFFSETTO:-0400
TZNAME:EDT
DTSTART:20270314T070000
END:DAYLIGHT
BEGIN:STANDARD
TZOFFSETFROM:-0400
TZOFFSETTO:-0500
TZNAME:EST
DTSTART:20271107T060000
END:STANDARD
END:VTIMEZONE
BEGIN:VEVENT
DTSTART;TZID=America/New_York:20260502T120000
DTEND;TZID=America/New_York:20260502T140000
DTSTAMP:20260423T082404
CREATED:20260326T004031Z
LAST-MODIFIED:20260326T004031Z
UID:1887-1777723200-1777730400@robbieprice.com
SUMMARY:Book Signing Event- Givens Books
DESCRIPTION:Come see me at Givens Books for a books signing event!
URL:https://robbieprice.com/event/book-signing-event-givens-books/
LOCATION:Givens Books & Little Dickens\, 2236 Lakeside Dr\, Lynchburg\, 24501\, United States
END:VEVENT
END:VCALENDAR